Workbook
Name dfdsfsdf: #REF!
Name LB: 2.20459
Name PZT: '[1]samsung Data'!$D$4:$E$16
Name sheet: '[2]Chart Data1'!$D$4:$D$42
Name SPC_Sheet10_1: #REF!
Name SPC_Sheet11_1: #REF!
Name SPC_Sheet8_1: #REF!
Name SPC_Sheet9_1: #REF!
Name Subgroup_Size: #REF!

Sheet 2025년에너지사용량(공장)
A1: 2025년 사용현황
A2: 구분 | B2: 전기 | C2: 상하수도 | D2: 폐기물처리비 | E2: 이동연소(경유) | F2: 이동연소(휘발유) | G2: 이동연소(LPG)
B3: 사용량(kWh) | C3: 사용량(m³) | D3: 사용량(kg) | E3: 사용량(Liter) | F3: 사용량(Liter) | G3: 사용량(Kg)
A4: 1월 | B4: 89220 | C4: 40 | D4: 10000 | E4: 2114 | F4: 1472 | G4: 125
A5: 2월 | B5: 94781 | C5: 40 | D5: 0 | E5: 1377 | F5: 971 | G5: 190
A6: 3월 | B6: 74337 | C6: 40 | D6: 5000 | E6: 1944 | F6: 1162 | G6: 140
A7: 4월 | B7: 69258 | C7: 40 | D7: 10000 | E7: 2337 | F7: 1340 | G7: 170
A8: 5월 | B8: 55444 | C8: 40 | D8: 3020 | E8: 1597 | F8: 1182 | G8: 175
A9: 6월 | B9: 56097 | C9: 47 | D9: 10000 | E9: 1970 | F9: 1027 | G9: 130
A10: 7월 | B10: 72093 | C10: 40 | D10: 5000 | E10: 2168 | F10: 1576 | G10: 165
A11: 8월 | B11: 71621 | C11: 40 | D11: 5000 | E11: 1578 | F11: 1021 | G11: 145
A12: 9월 | B12: 79161 | C12: 40 | D12: 0 | E12: 2034 | F12: 1419 | G12: 145
A13: 10월 | B13: 48161 | C13: 40 | D13: 5000 | E13: 2027 | F13: 1576 | G13: 115
A14: 11월 | B14: 62542 | C14: 40 | D14: 0 | E14: 1550 | F14: 1498 | G14: 115
A15: 12월 | B15: 67735 | C15: 40 | D15: 5000 | E15: 1639.67 | F15: 1652 | G15: 150
A16: 합계 | B16: =SUM(B4:B15) -> 840450 | C16: =SUM(C4:C15) -> 487 | D16: =SUM(D4:D15) -> 58020 | E16: =SUM(E4:E15) -> 22335.67 | F16: =SUM(F4:F15) -> 15896 | G16: =SUM(G4:G15) -> 1765
A17: 평균 | B17: =AVERAGE(B4:B15) -> 70037.5 | C17: =AVERAGE(C4:C15) -> 40.583333 | D17: =AVERAGE(D4:D15) -> 4835 | E17: =AVERAGE(E4:E15) -> 1861.3058 | F17: =AVERAGE(F4:F15) -> 1324.6667 | G17: =AVERAGE(G4:G15) -> 147.08333

Sheet 25년 에너지_온실가스 실적(신) 
A1: ▣ 에너지 사용량 및 온실가스 배출량 산정
B3: 범 례
B4: 연료명 | C4: : 해당항목만 입력
B5: 단위 | C5: : 계산에 활용하는 항목
B6: 입력항목 | C6: : 입력 항목
A8: ④ 에너지 사용량 및 온실가스 배출량
C10: 에너지 사용량 계수 | F10: 온실가스 배출량 계수 | J10: (Output)
B11: 연료명 | C11: 단위 | D11: 총발열량 | E11: 순발열량 | F11: 단위 | G11: 배출계수 | H11: 단위 | I11: 사용량 (Input) | J11: 에너지 사용량(MJ) | K11: 온실가스 배출량(KgCO2)
B12: 원유 | C12: MJ/Kg | D12: 45 | E12: 42.3 | F12: KgCO2/MJ | G12: 0.0733 | H12: Kg | I12: 0 | J12: =I12*D12 -> 0 | K12: =I12*E12*G12 -> 0
B13: 휘발유 | C13: 10453170 | D13: 33.5 | E13: 31 | F13: 5000 | G13: 0.0693 | H13: L | I13: ='2025년에너지사용량(공장)'!F16 -> 15896 | J13: =D13*I13 -> 532516 | K13: =E13*G13*I13 -> 34149.377 | L13: 115 | M13: 286000
B14: 실내등유 | C14: MJ/L | D14: 36.8 | E14: 34.3 | F14: 0 | G14: 0 | H14: L | I14: 0 | J14: =I14*D14 -> 0 | K14: =I14*E14*G14 -> 0
B15: 보일러등유 | C15: MJ/L | D15: 37.5 | E15: 35 | G15: 0.0719 | H15: L | I15: 0 | J15: =I15*D15 -> 0 | K15: =I15*E15*G15 -> 0
B16: 경유 | C16: MJ/L | D16: 37.9 | E16: 35.4 | G16: 0.0741 | H16: L | I16: ='2025년에너지사용량(공장)'!E16 -> 22335.67 | J16: =I16*D16 -> 846521.89 | K16: =I16*E16*G16 -> 58589.589
B17: B-A유 | C17: MJ/L | D17: 38.9 | E17: 36.6 | G17: 0.0741 | H17: L | I17: 0 | J17: =I17*D17 -> 0 | K17: =I17*E17*G17 -> 0
B18: B-B유 | C18: MJ/L | D18: 40.4 | E18: 38.1 | G18: 0.0774 | H18: L | I18: 0 | J18: =I18*D18 -> 0 | K18: =I18*E18*G18 -> 0
B19: B-C유 | C19: MJ/L | D19: 41.4 | E19: 39.1 | G19: 0.0774 | H19: L | I19: 0 | J19: =I19*D19 -> 0 | K19: =I19*E19*G19 -> 0
B20: 프로판 | C20: MJ/Kg | D20: 50.4 | E20: 46.3 | G20: 0.0631 | H20: Kg | I20: ='2025년에너지사용량(공장)'!G16 -> 1765 | J20: =I20*D20 -> 88956 | K20: =I20*E20*G20 -> 5156.5005
B21: 부탄 | C21: MJ/Kg | D21: 49.6 | E21: 45.7 | G21: 0.0631 | H21: Kg | I21: 0 | J21: =I21*D21 -> 0 | K21: =I21*E21*G21 -> 0
B22: 나프타 | C22: MJ/L | D22: 33.7 | E22: 31.2 | G22: 0.0733 | H22: L | I22: 0 | J22: =I22*D22 -> 0 | K22: =I22*E22*G22 -> 0
B23: 용제 | C23: MJ/L | D23: 33.3 | E23: 30.8 | G23: 0.0733 | H23: L | I23: 0 | J23: =I23*D23 -> 0 | K23: =I23*E23*G23 -> 0
B24: 항공유 | C24: MJ/L | D24: 36.6 | E24: 34.3 | G24: 0.07 | H24: L | I24: 0 | J24: =I24*D24 -> 0 | K24: =I24*E24*G24 -> 0
B25: 아스팔트 | C25: MJ/Kg | D25: 41.4 | E25: 39.1 | G25: 0.0807 | H25: Kg | I25: 0 | J25: =I25*D25 -> 0 | K25: =I25*E25*G25 -> 0
B26: 윤활유 | C26: MJ/L | D26: 38.7 | E26: 36.2 | G26: 0.0733 | H26: L | I26: 0 | J26: =I26*D26 -> 0 | K26: =I26*E26*G26 -> 0
B27: 석유코크 | C27: MJ/Kg | D27: 33.9 | E27: 32.9 | G27: 0.0975 | H27: Kg | I27: 0 | J27: =I27*D27 -> 0 | K27: =I27*E27*G27 -> 0
B28: 천연가스(LNG) | C28: MJ/Kg | D28: 54.5 | E28: 49.2 | G28: 0.0561 | H28: Kg | I28: 0 | J28: =I28*D28 -> 0 | K28: =I28*E28*G28 -> 0
B29: 도시가스(LNG) | C29: MJ/N㎥ | D29: 44.2 | E29: 40 | G29: 0.0561 | H29: N㎥ | I29: 0 | J29: =I29*D29 -> 0 | K29: =I29*E29*G29 -> 0
B30: 48504 | C30: 12018380 | D30: 50 | E30: 41340 | G30: 0.0631 | H30: N㎥ | I30: 0 | J30: =I30*D30 -> 0 | K30: =I30*E30*G30 -> 0
B31: 국내무연탄 | C31: MJ/Kg | D31: 19.5 | E31: 19.3 | G31: 0.0983 | H31: Kg | I31: 0 | J31: =I31*D31 -> 0 | K31: =I31*E31*G31 -> 0
B32: 수입무연탄 | C32: MJ/Kg | D32: 27.4 | E32: 26.8 | G32: 0 | H32: Kg | I32: 0 | J32: =I32*D32 -> 0 | K32: =I32*E32*G32 -> 0
B33: 유연탄(연료용) | C33: MJ/Kg | D33: 26 | E33: 24.9 | G33: 0.0946 | H33: Kg | I33: 0 | J33: =I33*D33 -> 0 | K33: =I33*E33*G33 -> 0
B34: 유연탄(원료용) | C34: MJ/Kg | D34: 29.3 | E34: 28.3 | G34: 0.0946 | H34: Kg | I34: 0 | J34: =I34*D34 -> 0 | K34: =I34*E34*G34 -> 0
B35: 아역청탄 | C35: MJ/Kg | D35: 22.4 | E35: 20.9 | G35: 0.0961 | H35: Kg | I35: 0 | J35: =I35*D35 -> 0 | K35: =I35*E35*G35 -> 0
B36: 코크스 | C36: MJ/Kg | D36: 29.5 | E36: 29.3 | G36: 0.107 | H36: Kg | I36: 0 | J36: =I36*D36 -> 0 | K36: =I36*E36*G36 -> 0
B37: 전 력* | C37: MJ/Kwh | D37: 9 | E37: 9 | F37: KgCO2/Kwh | G37: =G38+G39+G40 -> 0.4662504 | H37: Kwh | I37: ='2025년에너지사용량(공장)'!B16 -> 840450 | J37: =I37*D37 -> 7564050 | K37: =I37*G37 -> 391860.15
F38: CO2 | G38: =F45 -> 0.4653 | J38: =SUM(J12:J37) -> 9032043.9 | K38: =SUM(K12:K37) -> 489755.62
F39: CH4 | G39: =G45*0.001*21 -> 0.0001134
F40: N2O | G40: =H45*0.001*310 -> 0.000837
F42: 국가 고유 전력배출계수('07～'08년 평균) | I42: >>매년 달라짐. | K42: 온실가스 배출량(KgCO2)
F43: CO2 | G43: CH4 | H43: N2O | J43: Scope 1 | K43: =K13+K16+K20 -> 97895.467
B44: 79161 | C44: 17580020 | D44: 87 | E44: 47780 | F44: (tCO2/MWh) | G44: (kgCH4/MWh) | H44: (kgN2O/MWh) | J44: (직접 배출)
...

Sheet 2024년에너지사용량(공장)
A1: 2024년 사용현황
A2: 구분 | B2: 전기 | C2: 상하수도 | D2: 폐기물처리비 | E2: 이동연소(경유) | F2: 이동연소(휘발유) | G2: 이동연소(LPG)
B3: 사용량(kWh) | C3: 사용량(m³) | D3: 사용량(kg) | E3: 사용량(Liter) | F3: 사용량(Liter) | G3: 사용량(Kg)
A4: 1월 | B4: 115993 | C4: 40 | D4: 10000 | E4: 2178 | F4: 1610 | G4: 225
A5: 2월 | B5: 114389 | C5: 40 | D5: 0 | E5: 1876 | F5: 1461 | G5: 180
A6: 3월 | B6: 100272 | C6: 40 | D6: 6620 | E6: 1829 | F6: 1237 | G6: 140
A7: 4월 | B7: 79076 | C7: 40 | D7: 12770 | E7: 2058 | F7: 1875 | G7: 180
A8: 5월 | B8: 54859 | C8: 40 | D8: 0 | E8: 1346 | F8: 1532 | G8: 135
A9: 6월 | B9: 47640 | C9: 47 | D9: 20000 | E9: 1732 | F9: 1805 | G9: 110
A10: 7월 | B10: 54697 | C10: 40 | D10: 5000 | E10: 1709 | F10: 1533 | G10: 110
A11: 8월 | B11: 64627 | C11: 40 | D11: 0 | E11: 1219 | F11: 1404 | G11: 65
A12: 9월 | B12: 66873 | C12: 40 | D12: 5000 | E12: 1626 | F12: 1822 | G12: 130
A13: 10월 | B13: 44420 | C13: 40 | D13: 5000 | E13: 1933 | F13: 1399 | G13: 95
A14: 11월 | B14: 48504 | C14: 40 | D14: 0 | E14: 1717 | F14: 1361 | G14: 130
A15: 12월 | B15: 66495 | C15: 40 | D15: 0 | E15: 1568 | F15: 1212 | G15: 155
A16: 합계 | B16: =SUM(B4:B15) -> 857845 | C16: =SUM(C4:C15) -> 487 | D16: =SUM(D4:D15) -> 64390 | E16: =SUM(E4:E15) -> 20791 | F16: =SUM(F4:F15) -> 18251 | G16: =SUM(G4:G15) -> 1655
A17: 평균 | B17: =AVERAGE(B4:B15) -> 71487.083 | C17: =AVERAGE(C4:C15) -> 40.583333 | D17: =AVERAGE(D4:D15) -> 5365.8333 | E17: =AVERAGE(E4:E15) -> 1732.5833 | F17: =AVERAGE(F4:F15) -> 1520.9167 | G17: =AVERAGE(G4:G15) -> 137.91667

Sheet 24년 탄소배출량
A1: ▣ 에너지 사용량 및 온실가스 배출량 산정
B3: 범 례
B4: 연료명 | C4: : 해당항목만 입력
B5: 단위 | C5: : 계산에 활용하는 항목
B6: 입력항목 | C6: : 입력 항목
A8: ④ 에너지 사용량 및 온실가스 배출량
C10: 에너지 사용량 계수 | F10: 온실가스 배출량 계수 | J10: (Output)
B11: 연료명 | C11: 단위 | D11: 총발열량 | E11: 순발열량 | F11: 단위 | G11: 배출계수 | H11: 단위 | I11: 사용량 (Input) | J11: 에너지 사용량(MJ) | K11: 온실가스 배출량(KgCO2)
B12: 원유 | C12: MJ/Kg | D12: 45 | E12: 42.3 | F12: KgCO2/MJ | G12: 0.0733 | H12: Kg | I12: 0 | J12: =I12*D12 -> 0 | K12: =I12*E12*G12 -> 0
B13: 휘발유 | C13: MJ/L | D13: 33.5 | E13: 31 | G13: 0.0693 | H13: L | I13: ='2024년에너지사용량(공장)'!F16 -> 18251 | J13: =I13*D13 -> 611408.5 | K13: =I13*E13*G13 -> 39208.623
B14: 실내등유 | C14: MJ/L | D14: 36.8 | E14: 34.3 | G14: 0.0719 | H14: L | I14: 0 | J14: =I14*D14 -> 0 | K14: =I14*E14*G14 -> 0
B15: 보일러등유 | C15: MJ/L | D15: 37.5 | E15: 35 | G15: 0.0719 | H15: L | I15: 0 | J15: =I15*D15 -> 0 | K15: =I15*E15*G15 -> 0
B16: 경유 | C16: MJ/L | D16: 37.9 | E16: 35.4 | G16: 0.0741 | H16: L | I16: ='2024년에너지사용량(공장)'!E16 -> 20791 | J16: =I16*D16 -> 787978.9 | K16: =I16*E16*G16 -> 54537.704
B17: B-A유 | C17: MJ/L | D17: 38.9 | E17: 36.6 | G17: 0.0741 | H17: L | I17: 0 | J17: =I17*D17 -> 0 | K17: =I17*E17*G17 -> 0
B18: B-B유 | C18: MJ/L | D18: 40.4 | E18: 38.1 | G18: 0.0774 | H18: L | I18: 0 | J18: =I18*D18 -> 0 | K18: =I18*E18*G18 -> 0
B19: B-C유 | C19: MJ/L | D19: 41.4 | E19: 39.1 | G19: 0.0774 | H19: L | I19: 0 | J19: =I19*D19 -> 0 | K19: =I19*E19*G19 -> 0
B20: 프로판 | C20: MJ/Kg | D20: 50.4 | E20: 46.3 | G20: 0.0631 | H20: Kg | I20: ='2024년에너지사용량(공장)'!G16 -> 1655 | J20: =I20*D20 -> 83412 | K20: =I20*E20*G20 -> 4835.1322
B21: 부탄 | C21: MJ/Kg | D21: 49.6 | E21: 45.7 | G21: 0.0631 | H21: Kg | I21: 0 | J21: =I21*D21 -> 0 | K21: =I21*E21*G21 -> 0
B22: 나프타 | C22: MJ/L | D22: 33.7 | E22: 31.2 | G22: 0.0733 | H22: L | I22: 0 | J22: =I22*D22 -> 0 | K22: =I22*E22*G22 -> 0
B23: 용제 | C23: MJ/L | D23: 33.3 | E23: 30.8 | G23: 0.0733 | H23: L | I23: 0 | J23: =I23*D23 -> 0 | K23: =I23*E23*G23 -> 0
B24: 항공유 | C24: MJ/L | D24: 36.6 | E24: 34.3 | G24: 0.07 | H24: L | I24: 0 | J24: =I24*D24 -> 0 | K24: =I24*E24*G24 -> 0
B25: 아스팔트 | C25: MJ/Kg | D25: 41.4 | E25: 39.1 | G25: 0.0807 | H25: Kg | I25: 0 | J25: =I25*D25 -> 0 | K25: =I25*E25*G25 -> 0
B26: 윤활유 | C26: MJ/L | D26: 38.7 | E26: 36.2 | G26: 0.0733 | H26: L | I26: 0 | J26: =I26*D26 -> 0 | K26: =I26*E26*G26 -> 0
B27: 석유코크 | C27: MJ/Kg | D27: 33.9 | E27: 32.9 | G27: 0.0975 | H27: Kg | I27: 0 | J27: =I27*D27 -> 0 | K27: =I27*E27*G27 -> 0
B28: 천연가스(LNG) | C28: MJ/Kg | D28: 54.5 | E28: 49.2 | G28: 0.0561 | H28: Kg | I28: 0 | J28: =I28*D28 -> 0 | K28: =I28*E28*G28 -> 0
B29: 도시가스(LNG) | C29: MJ/N㎥ | D29: 44.2 | E29: 40 | G29: 0.0561 | H29: N㎥ | I29: 0 | J29: =I29*D29 -> 0 | K29: =I29*E29*G29 -> 0
B30: 도시가스(LPG) | C30: MJ/N㎥ | D30: 62.8 | E30: 57.8 | G30: 0.0631 | H30: N㎥ | I30: 0 | J30: =I30*D30 -> 0 | K30: =I30*E30*G30 -> 0
B31: 국내무연탄 | C31: MJ/Kg | D31: 19.5 | E31: 19.3 | G31: 0.0983 | H31: Kg | I31: 0 | J31: =I31*D31 -> 0 | K31: =I31*E31*G31 -> 0
B32: 수입무연탄 | C32: MJ/Kg | D32: 27.4 | E32: 26.8 | G32: 0 | H32: Kg | I32: 0 | J32: =I32*D32 -> 0 | K32: =I32*E32*G32 -> 0
... B36: 코크스 | C36: MJ/Kg | D36: 29.5 | E36: 29.3 | G36: 0.107 | H36: Kg | I36: 0 | J36: =I36*D36 -> 0 | K36: =I36*E36*G36 -> 0
B37: 전 력* | C37: MJ/Kwh | D37: 9 | E37: 9 | F37: KgCO2/Kwh | G37: =G38+G39+G40 -> 0.4780625 | H37: Kwh | I37: ='2024년에너지사용량(공장)'!B16 -> 857845 | J37: =I37*D37 -> 7720605 | K37: =I37*G37 -> 410103.53
F38: CO2 | G38: =F45 -> 0.4747 | J38: =SUM(J12:J37) -> 9203404.4 | K38: =SUM(K12:K37) -> 508684.98
F39: CH4 | G39: =G45*0.001*21 -> 0.0002625
F40: N2O | G40: =H45*0.001*310 -> 0.0031
F42: 국가 고유 전력배출계수('21～'22년 평균) | I42: >>매년 달라짐.(아직변경발표 없음)
F43: CO2 | G43: CH4 | H43: N2O
F44: (tCO2/MWh) | G44: (kgCH4/MWh) | H44: (kgN2O/MWh) | K44: 온실가스 배출량(KgCO2)
F45: 0.4747 | G45: 0.0125 | H45: 0.01 | J45: Scope 1 | K45: =SUM(F45:J45,K13,K16,K20) -> 98581.956
J46: (직접 배출)
J47: Scope 2 | K47: =K37 -> 410103.53
...

Sheet 2023년에너지사용량(공장)
A1: 2023년 사용현황
A2: 구분 | B2: 전기 | C2: 상하수도 | D2: 폐기물처리비 | E2: 이동연소(경유) | F2: 이동연소(휘발유) | G2: 이동연소(LPG)
B3: 사용량(kWh) | C3: 사용량(m³) | D3: 사용량(kg) | E3: 사용량(Liter) | F3: 사용량(Liter) | G3: 사용량(Kg) | J3: 사용량(m³)
A4: 1월 | B4: 79805 | C4: 40 | D4: 0 | E4: 1391 | F4: 1184 | G4: 145
A5: 2월 | B5: 74060 | C5: 40 | D5: 20000 | E5: 1400 | F5: 1319 | G5: 125
A6: 3월 | B6: 64704 | C6: 40 | D6: 30000 | E6: 1127 | F6: 1422 | G6: 175
A7: 4월 | B7: 53778 | C7: 40 | D7: 0 | E7: 1132 | F7: 1743 | G7: 100
A8: 5월 | B8: 52152 | C8: 40 | D8: 5000 | E8: 1314 | F8: 1512 | G8: 175
A9: 6월 | B9: 73272 | C9: 40 | D9: 5000 | E9: 1484 | F9: 1617 | G9: 195
A10: 7월 | B10: 81816 | C10: 40 | D10: 0 | E10: 2109 | F10: 1680 | G10: 140
A11: 8월 | B11: 81523 | C11: 40 | D11: 5000 | E11: 1564 | F11: 1938 | G11: 165
A12: 9월 | B12: 89241 | C12: 40 | D12: 10000 | E12: 1632 | F12: 1792 | G12: 90
A13: 10월 | B13: 50737 | C13: 40 | D13: 5000 | E13: 1739 | F13: 1743 | G13: 125
A14: 11월 | B14: 71995 | C14: 40 | D14: 10000 | E14: 1692 | F14: 1717 | G14: 145
A15: 12월 | B15: 102134 | C15: 40 | D15: 5000 | E15: 1847 | F15: 1654 | G15: 195
A16: 합계 | B16: =SUM(B4:B15) -> 875217 | C16: =SUM(C4:C15) -> 480 | D16: =SUM(D4:D15) -> 95000 | E16: =SUM(E4:E15) -> 18431 | F16: =SUM(F4:F15) -> 19321 | G16: =SUM(G4:G15) -> 1775
A17: 평균 | B17: =AVERAGE(B4:B15) -> 72934.75 | C17: =AVERAGE(C4:C15) -> 40 | D17: =AVERAGE(D4:D15) -> 7916.6667 | E17: =AVERAGE(E4:E15) -> 1535.9167 | F17: =AVERAGE(F4:F15) -> 1610.0833 | G17: =AVERAGE(G4:G15) -> 147.91667

Sheet 23년 탄소배출량
A1: ▣ 에너지 사용량 및 온실가스 배출량 산정
B3: 범 례
B4: 연료명 | C4: : 해당항목만 입력
B5: 단위 | C5: : 계산에 활용하는 항목
B6: 입력항목 | C6: : 입력 항목
A8: ④ 에너지 사용량 및 온실가스 배출량
C10: 에너지 사용량 계수 | F10: 온실가스 배출량 계수 | J10: (Output)
B11: 연료명 | C11: 단위 | D11: 총발열량 | E11: 순발열량 | F11: 단위 | G11: 배출계수 | H11: 단위 | I11: 사용량 (Input) | J11: 에너지 사용량(MJ) | K11: 온실가스 배출량(KgCO2)
B12: 원유 | C12: MJ/Kg | D12: 45 | E12: 42.3 | F12: KgCO2/MJ | G12: 0.0733 | H12: Kg | I12: 0 | J12: =I12*D12 -> 0 | K12: =I12*E12*G12 -> 0
B13: 휘발유 | C13: MJ/L | D13: 33.5 | E13: 31 | G13: 0.0693 | H13: L | I13: ='2023년에너지사용량(공장)'!F16 -> 19321 | J13: =I13*D13 -> 647253.5 | K13: =I13*E13*G13 -> 41507.304
B14: 실내등유 | C14: MJ/L | D14: 36.8 | E14: 34.3 | G14: 0.0719 | H14: L | I14: 0 | J14: =I14*D14 -> 0 | K14: =I14*E14*G14 -> 0
B15: 보일러등유 | C15: MJ/L | D15: 37.5 | E15: 35 | G15: 0.0719 | H15: L | I15: 0 | J15: =I15*D15 -> 0 | K15: =I15*E15*G15 -> 0
B16: 경유 | C16: MJ/L | D16: 37.9 | E16: 35.4 | G16: 0.0741 | H16: L | I16: ='2023년에너지사용량(공장)'!E16 -> 18431 | J16: =I16*D16 -> 698534.9 | K16: =I16*E16*G16 -> 48347.093
B17: B-A유 | C17: MJ/L | D17: 38.9 | E17: 36.6 | G17: 0.0741 | H17: L | I17: 0 | J17: =I17*D17 -> 0 | K17: =I17*E17*G17 -> 0
B18: B-B유 | C18: MJ/L | D18: 40.4 | E18: 38.1 | G18: 0.0774 | H18: L | I18: 0 | J18: =I18*D18 -> 0 | K18: =I18*E18*G18 -> 0
B19: B-C유 | C19: MJ/L | D19: 41.4 | E19: 39.1 | G19: 0.0774 | H19: L | I19: 0 | J19: =I19*D19 -> 0 | K19: =I19*E19*G19 -> 0
B20: 프로판 | C20: MJ/Kg | D20: 50.4 | E20: 46.3 | G20: 0.0631 | H20: Kg | I20: ='2023년에너지사용량(공장)'!G16 -> 1775 | J20: =I20*D20 -> 89460 | K20: =I20*E20*G20 -> 5185.7158
B21: 부탄 | C21: MJ/Kg | D21: 49.6 | E21: 45.7 | G21: 0.0631 | H21: Kg | I21: 0 | J21: =I21*D21 -> 0 | K21: =I21*E21*G21 -> 0
B22: 나프타 | C22: MJ/L | D22: 33.7 | E22: 31.2 | G22: 0.0733 | H22: L | I22: 0 | J22: =I22*D22 -> 0 | K22: =I22*E22*G22 -> 0
B23: 용제 | C23: MJ/L | D23: 33.3 | E23: 30.8 | G23: 0.0733 | H23: L | I23: 0 | J23: =I23*D23 -> 0 | K23: =I23*E23*G23 -> 0
B24: 항공유 | C24: MJ/L | D24: 36.6 | E24: 34.3 | G24: 0.07 | H24: L | I24: 0 | J24: =I24*D24 -> 0 | K24: =I24*E24*G24 -> 0
B25: 아스팔트 | C25: MJ/Kg | D25: 41.4 | E25: 39.1 | G25: 0.0807 | H25: Kg | I25: 0 | J25: =I25*D25 -> 0 | K25: =I25*E25*G25 -> 0
B26: 윤활유 | C26: MJ/L | D26: 38.7 | E26: 36.2 | G26: 0.0733 | H26: L | I26: 0 | J26: =I26*D26 -> 0 | K26: =I26*E26*G26 -> 0
B27: 석유코크 | C27: MJ/Kg | D27: 33.9 | E27: 32.9 | G27: 0.0975 | H27: Kg | I27: 0 | J27: =I27*D27 -> 0 | K27: =I27*E27*G27 -> 0
B28: 천연가스(LNG) | C28: MJ/Kg | D28: 54.5 | E28: 49.2 | G28: 0.0561 | H28: Kg | I28: 0 | J28: =I28*D28 -> 0 | K28: =I28*E28*G28 -> 0
B29: 도시가스(LNG) | C29: MJ/N㎥ | D29: 44.2 | E29: 40 | G29: 0.0561 | H29: N㎥ | I29: 0 | J29: =I29*D29 -> 0 | K29: =I29*E29*G29 -> 0
B30: 도시가스(LPG) | C30: MJ/N㎥ | D30: 62.8 | E30: 57.8 | G30: 0.0631 | H30: N㎥ | I30: 0 | J30: =I30*D30 -> 0 | K30: =I30*E30*G30 -> 0
B31: 국내무연탄 | C31: MJ/Kg | D31: 19.5 | E31: 19.3 | G31: 0.0983 | H31: Kg | I31: 0 | J31: =I31*D31 -> 0 | K31: =I31*E31*G31 -> 0
B32: 수입무연탄 | C32: MJ/Kg | D32: 27.4 | E32: 26.8 | G32: 0 | H32: Kg | I32: 0 | J32: =I32*D32 -> 0 | K32: =I32*E32*G32 -> 0
... B36: 코크스 | C36: MJ/Kg | D36: 29.5 | E36: 29.3 | G36: 0.107 | H36: Kg | I36: 0 | J36: =I36*D36 -> 0 | K36: =I36*E36*G36 -> 0
B37: 전 력* | C37: MJ/Kwh | D37: 9 | E37: 9 | F37: KgCO2/Kwh | G37: =G38+G39+G40 -> 0.4780625 | H37: Kwh | I37: ='2023년에너지사용량(공장)'!B16 -> 875217 | J37: =I37*D37 -> 7876953 | K37: =I37*G37 -> 418408.43
F38: CO2 | G38: =F45 -> 0.4747 | J38: =SUM(J12:J37) -> 9312201.4 | K38: =SUM(K12:K37) -> 513448.54
F39: CH4 | G39: =G45*0.001*21 -> 0.0002625
F40: N2O | G40: =H45*0.001*310 -> 0.0031
F42: 국가 고유 전력배출계수('21～'22년 평균) | I42: >>매년 달라짐.(아직변경발표 없음)
F43: CO2 | G43: CH4 | H43: N2O
F44: (tCO2/MWh) | G44: (kgCH4/MWh) | H44: (kgN2O/MWh) | K44: 온실가스 배출량(KgCO2)
F45: 0.4747 | G45: 0.0125 | H45: 0.01 | J45: Scope 1 | K45: =SUM(K13,K16,K20) -> 95040.113
J46: (직접 배출)
J47: Scope 2 | K47: =K37 -> 418408.43
...
